BEGIN:VCALENDAR
VERSION:2.0
PRODID:-//GSWA - ECPv6.15.18//NONSGML v1.0//EN
CALSCALE:GREGORIAN
METHOD:PUBLISH
X-ORIGINAL-URL:https://www.greatswamp.org
X-WR-CALDESC:Events for GSWA
REFRESH-INTERVAL;VALUE=DURATION:PT1H
X-Robots-Tag:noindex
X-PUBLISHED-TTL:PT1H
BEGIN:VTIMEZONE
TZID:UTC
BEGIN:STANDARD
TZOFFSETFROM:+0000
TZOFFSETTO:+0000
TZNAME:UTC
DTSTART:20140101T000000
END:STANDARD
END:VTIMEZONE
BEGIN:VEVENT
DTSTART;TZID=UTC:20151129T100000
DTEND;TZID=UTC:20151129T113000
DTSTAMP:20260421T024216
CREATED:20170330T175225Z
LAST-MODIFIED:20170330T175601Z
UID:19367-1448791200-1448796600@www.greatswamp.org
SUMMARY:Guided Dog Walk
DESCRIPTION:Explore GSWA’s Conservation Management Area with your furry friend! We’ll see what we can sniff out in the woods with expert guide\, Hazel England. \n  \n  \n  \n  \n  \n  \n 
URL:https://www.greatswamp.org/event/guided-dog-walk/
LOCATION:Great Swamp Watershed Association’s CMA\, 1 Tiger Lily Ln\, Morristown\, NJ\, 07960\, United States
CATEGORIES:Outdoor Events
ATTACH;FMTTYPE=image/jpeg:https://www.greatswamp.org/wp-content/uploads/2017/03/Jackson2.jpg
END:VEVENT
END:VCALENDAR