BEGIN:VCALENDAR
VERSION:2.0
PRODID:-//GSWA - ECPv6.15.18//NONSGML v1.0//EN
CALSCALE:GREGORIAN
METHOD:PUBLISH
X-WR-CALNAME:GSWA
X-ORIGINAL-URL:https://www.greatswamp.org
X-WR-CALDESC:Events for GSWA
REFRESH-INTERVAL;VALUE=DURATION:PT1H
X-Robots-Tag:noindex
X-PUBLISHED-TTL:PT1H
BEGIN:VTIMEZONE
TZID:UTC
BEGIN:STANDARD
TZOFFSETFROM:+0000
TZOFFSETTO:+0000
TZNAME:UTC
DTSTART:20150101T000000
END:STANDARD
END:VTIMEZONE
BEGIN:VEVENT
DTSTART;TZID=UTC:20160618T100000
DTEND;TZID=UTC:20160618T160000
DTSTAMP:20260420T165227
CREATED:20170330T183756Z
LAST-MODIFIED:20170330T183756Z
UID:19419-1466244000-1466265600@www.greatswamp.org
SUMMARY:5th Annual Great Swamp Scavenger Hunt
DESCRIPTION:Calling all would-be explorers\, adventurers\, and buccaneers! The Great Swamp Scavenger Hunt is back for another year of outdoor fun! \nThink you know a thing or two about New Jersey’s Great Swamp? Then it’s time to test your powers of navigation and observation to find out. \n  \n  \n 
URL:https://www.greatswamp.org/event/5th-annual-great-swamp-scavenger-hunt/
LOCATION:Great Swamp National Wildlife Refuge\, 220 Long Hill Road\, Gillette\, NJ\, 07933\, United States
CATEGORIES:Outdoor Events
END:VEVENT
END:VCALENDAR