BEGIN:VCALENDAR
VERSION:2.0
PRODID:-//GSWA - ECPv6.15.18//NONSGML v1.0//EN
CALSCALE:GREGORIAN
METHOD:PUBLISH
X-WR-CALNAME:GSWA
X-ORIGINAL-URL:https://www.greatswamp.org
X-WR-CALDESC:Events for GSWA
REFRESH-INTERVAL;VALUE=DURATION:PT1H
X-Robots-Tag:noindex
X-PUBLISHED-TTL:PT1H
BEGIN:VTIMEZONE
TZID:UTC
BEGIN:STANDARD
TZOFFSETFROM:+0000
TZOFFSETTO:+0000
TZNAME:UTC
DTSTART:20150101T000000
END:STANDARD
END:VTIMEZONE
BEGIN:VEVENT
DTSTART;TZID=UTC:20160925T110000
DTEND;TZID=UTC:20160925T123000
DTSTAMP:20260420T114752
CREATED:20170330T185340Z
LAST-MODIFIED:20170330T185340Z
UID:19434-1474801200-1474806600@www.greatswamp.org
SUMMARY:Shades of Autumn Hike
DESCRIPTION:Join GSWA Education Associate Dan Ross as he leads a fun filled hike along the Horizon trail at the CMA and learn about why deciduous trees lose their leaves in the fall\, why they change colors and other interesting facts along the way! Make sure to keep your eyes peeled for squirrels and chipmunks collecting nuts for the coming months\, and observe the forest changing as it prepares for the cooler months to come. \n  \n  \n  \n 
URL:https://www.greatswamp.org/event/shades-autumn-hike/
LOCATION:Great Swamp Watershed Association’s CMA\, 1 Tiger Lily Ln\, Morristown\, NJ\, 07960\, United States
CATEGORIES:Outdoor Events
ATTACH;FMTTYPE=image/jpeg:https://www.greatswamp.org/wp-content/uploads/2017/03/LeafOriginalTravisSimonTN.jpg
END:VEVENT
END:VCALENDAR