BEGIN:VCALENDAR
VERSION:2.0
PRODID:-//GSWA - ECPv6.15.18//NONSGML v1.0//EN
CALSCALE:GREGORIAN
METHOD:PUBLISH
X-ORIGINAL-URL:https://www.greatswamp.org
X-WR-CALDESC:Events for GSWA
REFRESH-INTERVAL;VALUE=DURATION:PT1H
X-Robots-Tag:noindex
X-PUBLISHED-TTL:PT1H
BEGIN:VTIMEZONE
TZID:UTC
BEGIN:STANDARD
TZOFFSETFROM:+0000
TZOFFSETTO:+0000
TZNAME:UTC
DTSTART:20150101T000000
END:STANDARD
END:VTIMEZONE
BEGIN:VEVENT
DTSTART;TZID=UTC:20161208T100000
DTEND;TZID=UTC:20161208T120000
DTSTAMP:20260420T074140
CREATED:20170330T191059Z
LAST-MODIFIED:20170330T191059Z
UID:19472-1481191200-1481198400@www.greatswamp.org
SUMMARY:Winter Nature Detectives Hike
DESCRIPTION:Set off in hot pursuit of the region’s most-wanted wintertime wildlife on this nature detective discovery hike at Great Swamp National Wildlife Refuge.  Learn how to identify animals from their tracks\, scats and other leave behind clues. Spy on secret hideouts used by birds\, wintering insects\, and other woodland creatures. Unmask the dining preferences of deer\, raccoons\, and even coyotes by putting the magnifying glass to some scat. All this detective work is easier than you think\, plus its fun being outdoors in the winter! Recommended for all\, but especially children 5 to 12 years old. \n 
URL:https://www.greatswamp.org/event/winter-nature-detectives-hike/
LOCATION:Great Swamp National Wildlife Refuge\, 220 Long Hill Road\, Gillette\, NJ\, 07933\, United States
CATEGORIES:Outdoor Events
ORGANIZER;CN="GSWA":MAILTO:info@greatswamp.org
END:VEVENT
END:VCALENDAR