BEGIN:VCALENDAR
VERSION:2.0
PRODID:-//GSWA - ECPv6.15.18//NONSGML v1.0//EN
CALSCALE:GREGORIAN
METHOD:PUBLISH
X-WR-CALNAME:GSWA
X-ORIGINAL-URL:https://www.greatswamp.org
X-WR-CALDESC:Events for GSWA
REFRESH-INTERVAL;VALUE=DURATION:PT1H
X-Robots-Tag:noindex
X-PUBLISHED-TTL:PT1H
BEGIN:VTIMEZONE
TZID:UTC
BEGIN:STANDARD
TZOFFSETFROM:+0000
TZOFFSETTO:+0000
TZNAME:UTC
DTSTART:20160101T000000
END:STANDARD
END:VTIMEZONE
BEGIN:VEVENT
DTSTART;TZID=UTC:20170329T173000
DTEND;TZID=UTC:20170329T193000
DTSTAMP:20260420T022340
CREATED:20170310T224843Z
LAST-MODIFIED:20171113T160923Z
UID:17704-1490808600-1490815800@www.greatswamp.org
SUMMARY:Taste of Nature Party
DESCRIPTION:Have you ever tried dandelion wine? Do you know what types of wild plants can be harvested and eaten? Join us for this exciting spin on our always entertaining tasting events\, where we will experiment with different food and drink made from New Jersey plants! This event is free to nonmembers and members who bring a nonmember friend as a guest (members coming alone or with other members can join in on the fun too\, for a donation of $25). Not only that – but for each nonmember that walks through our door\, an anonymous donor has pledged to contribute $25 to GSWA\, and to match any gifts made to the organization\, dollar-for-dollar. \n\n\n  \n 
URL:https://www.greatswamp.org/event/taste-nature-party/
LOCATION:Great Swamp Watershed Association HQ\, 568 Tempe Wick Rd\, Morristown\, NJ\, 07960\, United States
CATEGORIES:Outdoor Events,Friendraiser
ATTACH;FMTTYPE=image/jpeg:https://www.greatswamp.org/wp-content/uploads/2017/03/tasteofnature.jpg
END:VEVENT
END:VCALENDAR