BEGIN:VCALENDAR
VERSION:2.0
PRODID:-//GSWA - ECPv6.15.18//NONSGML v1.0//EN
CALSCALE:GREGORIAN
METHOD:PUBLISH
X-ORIGINAL-URL:https://www.greatswamp.org
X-WR-CALDESC:Events for GSWA
REFRESH-INTERVAL;VALUE=DURATION:PT1H
X-Robots-Tag:noindex
X-PUBLISHED-TTL:PT1H
BEGIN:VTIMEZONE
TZID:America/New_York
BEGIN:DAYLIGHT
TZOFFSETFROM:-0500
TZOFFSETTO:-0400
TZNAME:EDT
DTSTART:20160313T070000
END:DAYLIGHT
BEGIN:STANDARD
TZOFFSETFROM:-0400
TZOFFSETTO:-0500
TZNAME:EST
DTSTART:20161106T060000
END:STANDARD
BEGIN:DAYLIGHT
TZOFFSETFROM:-0500
TZOFFSETTO:-0400
TZNAME:EDT
DTSTART:20170312T070000
END:DAYLIGHT
BEGIN:STANDARD
TZOFFSETFROM:-0400
TZOFFSETTO:-0500
TZNAME:EST
DTSTART:20171105T060000
END:STANDARD
BEGIN:DAYLIGHT
TZOFFSETFROM:-0500
TZOFFSETTO:-0400
TZNAME:EDT
DTSTART:20180311T070000
END:DAYLIGHT
BEGIN:STANDARD
TZOFFSETFROM:-0400
TZOFFSETTO:-0500
TZNAME:EST
DTSTART:20181104T060000
END:STANDARD
END:VTIMEZONE
BEGIN:VTIMEZONE
TZID:UTC
BEGIN:STANDARD
TZOFFSETFROM:+0000
TZOFFSETTO:+0000
TZNAME:UTC
DTSTART:20160101T000000
END:STANDARD
END:VTIMEZONE
BEGIN:VEVENT
DTSTART;TZID=America/New_York:20170402T190000
DTEND;TZID=America/New_York:20170402T203000
DTSTAMP:20260420T022529
CREATED:20161124T204211Z
LAST-MODIFIED:20170330T192639Z
UID:15624-1491159600-1491165000@www.greatswamp.org
SUMMARY:Vernal Pool Exploration Hike
DESCRIPTION:THIS EVENT IS SOLD OUT! \nWith temperatures rising\, the forest floor will be hopping with new life as frogs and other amphibians crowd into shallow puddles of water to breed and lay their eggs. These puddles\, better known as vernal pools\, provide a perfect opportunity to learn more about Mother Nature here in New Jersey. But hurry! They disappear quickly. \nGSWA’s annual Vernal Pool Exploration provides a fun\, outdoor learning experience for kids and adults alike. Discover the differences between a spring peeper\, a chorus frog\, and a wood frog. Find out how far an endangered spotted salamander will walk to find a mating pool. And\, learn how much everything we have come to appreciate about the springtime depends on a few unassuming puddles of water on the forest floor. \nWarm clothing and waterproof footwear — especially hiking boots — are very strongly recommended for this hike. Registration required. Register online or by calling 973-538-3500.
URL:https://www.greatswamp.org/event/vernal-pool-exploration-hike/
LOCATION:Great Swamp Watershed Association’s CMA\, 1 Tiger Lily Ln\, Morristown\, NJ\, 07960\, United States
CATEGORIES:Outdoor Events
ATTACH;FMTTYPE=image/jpeg:https://www.greatswamp.org/wp-content/uploads/2016/11/vernalpool-event.jpg
END:VEVENT
BEGIN:VEVENT
DTSTART;TZID=UTC:20170426T160000
DTEND;TZID=UTC:20170426T180000
DTSTAMP:20260420T022529
CREATED:20170315T185506Z
LAST-MODIFIED:20170320T185514Z
UID:17953-1493222400-1493229600@www.greatswamp.org
SUMMARY:Watchung Reservation Hike
DESCRIPTION:Join us for the next installment of “Downstream Adventures” Hiking at Watchung Reservation. We will be exploring scenic gorges\, visiting the remnants of the deserted village of Feltville\, following alongside the Blue Brook and marveling at Lake Surprise. \nThis will be a difficult hike over a few miles. \n  \n  \n  \n  \n 
URL:https://www.greatswamp.org/event/watchung-reservation-hike/
LOCATION:Watchung Reservation\, 452 New Providence Road\, Mountainside\, NJ\, 07092
CATEGORIES:Outdoor Events
ATTACH;FMTTYPE=image/jpeg:https://www.greatswamp.org/wp-content/uploads/2017/03/lakesurprise.jpg
END:VEVENT
END:VCALENDAR