BEGIN:VCALENDAR
VERSION:2.0
PRODID:-//GSWA - ECPv6.15.18//NONSGML v1.0//EN
CALSCALE:GREGORIAN
METHOD:PUBLISH
X-WR-CALNAME:GSWA
X-ORIGINAL-URL:https://www.greatswamp.org
X-WR-CALDESC:Events for GSWA
REFRESH-INTERVAL;VALUE=DURATION:PT1H
X-Robots-Tag:noindex
X-PUBLISHED-TTL:PT1H
BEGIN:VTIMEZONE
TZID:UTC
BEGIN:STANDARD
TZOFFSETFROM:+0000
TZOFFSETTO:+0000
TZNAME:UTC
DTSTART:20160101T000000
END:STANDARD
END:VTIMEZONE
BEGIN:VEVENT
DTSTART;TZID=UTC:20170517T090000
DTEND;TZID=UTC:20170517T120000
DTSTAMP:20260419T220510
CREATED:20170331T232700Z
LAST-MODIFIED:20170331T233029Z
UID:19516-1495011600-1495022400@www.greatswamp.org
SUMMARY:Kitchell Pond Workday
DESCRIPTION:GSWA is looking for volunteers to help us to remove invasive species and replant a native buffer around Kitchell Pond. We’d love to have your help! This event is cosponsored by Morris County Park Commission. \n  \n  \n  \n  \n  \n 
URL:https://www.greatswamp.org/event/kitchell-pond-workday/
LOCATION:Kitchell Pond\, 75 Kitchell Road\, Morristown\, New Jersey
CATEGORIES:Outdoor Events
ATTACH;FMTTYPE=image/jpeg:https://www.greatswamp.org/wp-content/uploads/2017/03/kitchell-pond-2017.jpg
ORGANIZER;CN="GSWA":MAILTO:info@greatswamp.org
END:VEVENT
BEGIN:VEVENT
DTSTART;TZID=UTC:20170520T100000
DTEND;TZID=UTC:20170520T160000
DTSTAMP:20260419T220510
CREATED:20170315T192005Z
LAST-MODIFIED:20170506T003820Z
UID:17972-1495274400-1495296000@www.greatswamp.org
SUMMARY:Annual Great Swamp Scavenger Hunt
DESCRIPTION:Calling all would-be explorers\, adventurers\, and buccaneers! The Great Swamp Scavenger Hunt is back for another year of outdoor fun! \nThink you know a thing or two about New Jersey’s Great Swamp? Then it’s time to test your powers of navigation and observation to find out. \nBegin the Scavenger Hunt just after 10 a.m. by checking in at GSWA’s Home Base under the pavilion at the Great Swamp National Wildlife Refuge’s Helen C. Fenske Visitor Center. (The Visitor Center is located just inside the Lee’s Hill Road park entrance at 32 Pleasant Plains Road in Harding Township\, NJ.) \nWe will provide you with a route to travel\, questions to answer\, and a list of treasures to find throughout the 55-square-mile Great Swamp Watershed region. It’s your job to navigate to each treasure site\, seek answers to the questions and riddles provided\, and then return to Home Base with all your spoils. \nRemember to hurry back to 32 Pleasant Plains Road at 3 p.m. because your day of pilfering booty will earn you several chances to win some special prizes at our Scavenger’s Tricky Tray! \nA free cookout waits for all who participate\, so don’t forget your barbecue enthusiasm. We love it when our guests participate in the picnic! Feel free to bring along a covered side dish (to share or not). We’ll supply the burgers\, dogs\, and drinks. \nThis event is sponsored by Investors Bank\, Madison Branch.
URL:https://www.greatswamp.org/event/annual-great-swamp-scavenger-hunt/
LOCATION:Great Swamp National Wildlife Refuge\, 220 Long Hill Road\, Gillette\, NJ\, 07933\, United States
CATEGORIES:Outdoor Events
ATTACH;FMTTYPE=image/jpeg:https://www.greatswamp.org/wp-content/uploads/2017/03/scavengerhunt.jpg
END:VEVENT
END:VCALENDAR