BEGIN:VCALENDAR
VERSION:2.0
PRODID:-//GSWA - ECPv6.15.18//NONSGML v1.0//EN
CALSCALE:GREGORIAN
METHOD:PUBLISH
X-WR-CALNAME:GSWA
X-ORIGINAL-URL:https://www.greatswamp.org
X-WR-CALDESC:Events for GSWA
REFRESH-INTERVAL;VALUE=DURATION:PT1H
X-Robots-Tag:noindex
X-PUBLISHED-TTL:PT1H
BEGIN:VTIMEZONE
TZID:America/New_York
BEGIN:DAYLIGHT
TZOFFSETFROM:-0500
TZOFFSETTO:-0400
TZNAME:EDT
DTSTART:20240310T070000
END:DAYLIGHT
BEGIN:STANDARD
TZOFFSETFROM:-0400
TZOFFSETTO:-0500
TZNAME:EST
DTSTART:20241103T060000
END:STANDARD
BEGIN:DAYLIGHT
TZOFFSETFROM:-0500
TZOFFSETTO:-0400
TZNAME:EDT
DTSTART:20250309T070000
END:DAYLIGHT
BEGIN:STANDARD
TZOFFSETFROM:-0400
TZOFFSETTO:-0500
TZNAME:EST
DTSTART:20251102T060000
END:STANDARD
BEGIN:DAYLIGHT
TZOFFSETFROM:-0500
TZOFFSETTO:-0400
TZNAME:EDT
DTSTART:20260308T070000
END:DAYLIGHT
BEGIN:STANDARD
TZOFFSETFROM:-0400
TZOFFSETTO:-0500
TZNAME:EST
DTSTART:20261101T060000
END:STANDARD
END:VTIMEZONE
BEGIN:VEVENT
DTSTART;TZID=America/New_York:20250306T173000
DTEND;TZID=America/New_York:20250306T193000
DTSTAMP:20260420T131848
CREATED:20250123T182722Z
LAST-MODIFIED:20250305T185455Z
UID:54034-1741282200-1741289400@www.greatswamp.org
SUMMARY:Mimosa Tasting - Spring into Spring!
DESCRIPTION:What’s better than a crisp\, sparkling mimosa? How about 8 different flavored mimosas?! Join Great Swamp Watershed Association as we “Spring into Spring” with a fabulous Mimosa Tasting! Raise a glass to the warmer days ahead and enjoy a selection of creatively crafted mimosas and delicious food pairings. You can even create your own custom mimosa and take part in our pub quiz for a chance to win prizes. Embrace the coming spring season with an evening of bubbly fun! \nThis event is free if you are NOT a GSWA member. GSWA members\, the cost is $25 OR bring a non-member along and you can both sip and sample for free! \nNote: Must be 21+ years of age to attend. ID’s will be checked.  \n\nPlease email Izzy ifilippini@greatswamp.org with questions or cancellations. \nCANCELLATION POLICY: Great Swamp Watershed Association (GSWA) makes every effort to assure all programs and events go off as planned. Should an event be cancelled due to severe weather or other unexpected reasons\, GSWA will promptly notify all registrants via email and the event page will reflect the status. To accommodate people on the waitlist\, participants needing to cancel should do so ASAP. Cancellations made less than 48 hours in advance will not be refunded unless it is due to a health emergency. Unused registration fees may be converted into a tax-deductible donation.
URL:https://www.greatswamp.org/event/spring-into-spring-mimosa-tasting/
LOCATION:Great Swamp Watershed Association HQ\, 568 Tempe Wick Rd\, Morristown\, NJ\, 07960\, United States
CATEGORIES:Friendraiser
ATTACH;FMTTYPE=image/jpeg:https://www.greatswamp.org/wp-content/uploads/2025/01/03.06.25-Mimosa-Tasting-Website-Graphic.jpg
ORGANIZER;CN="Izzy Filippini":MAILTO:ifilippini@greatswamp.org
END:VEVENT
BEGIN:VEVENT
DTSTART;TZID=America/New_York:20250311T080000
DTEND;TZID=America/New_York:20250311T093000
DTSTAMP:20260420T131848
CREATED:20250225T170015Z
LAST-MODIFIED:20250228T223257Z
UID:54923-1741680000-1741685400@www.greatswamp.org
SUMMARY:Breakfast Briefing: Colonial-Era Herbs and Vegetables at the Wick House Garden
DESCRIPTION:Step back in time and discover the fascinating world of colonial-era gardening.  \nJoin us for a special Breakfast Briefing as members of the Northern New Jersey Unit of The Herb Society of America (NNJU-HSA) reveal the history and uses of herbs and vegetables cultivated at the Wick House Garden in Jockey Hollow. Learn how Mary Wick and her daughter\, Tempe\, may have relied on these plants to endure the brutal winter of 1779-1780\, and explore the ongoing efforts to preserve and interpret this historic garden. \nPainstakingly researched and maintained by the NNJU-HSA in partnership with Morristown National Historical Park\, the 18th-century herb and vegetable garden reflect the agricultural heritage of its time. Efforts have also been made to restore the colonial atmosphere of the entire farm\, including the nearby barnyard\, orchard\, and open fields. Today\, the Herb Society continues to steward the Wick House Garden at Jockey Hollow\, ensuring its legacy remains intact. \nWhether you’re a history buff\, an avid gardener\, or simply curious\, this event offers a unique opportunity to connect with the past — while enjoying a light breakfast. Space is limited\, and registration is required to ensure an accurate headcount. \nAbout the Presenters:\n🌿 Tish Cassa – A longtime educator in the Harding and Tewksbury school systems and an active member of the NNJU-HSA. Her in-laws\, David and Cary Cassa\, donated their home in Chatham Township to GSWA in the late 1970s\, forming the foundation of GSWA’s endowment fund. Her husband\, George Cassa\, served on GSWA’s Board for many years.\n🌿 Jane Riley – A dedicated member of the NNJU-HSA for over 20 years\, she is also actively involved in the Harding Township Historical Society and the New Vernon Garden Club. Jan oversees the garden at the historic Tunis-Ellicks House in Harding Township.\n🌿 Jan Malay – Chair of the Northern New Jersey Unit of The Herb Society of America\, retired attorney\, and former GSWA staff and Board member.\n\n\nPlease email Izzy (ifilippini@greatswamp.org) with questions or cancellations. Ticketing closes at 3/10 at 5:00 PM. \nCANCELLATION POLICY: Great Swamp Watershed Association (GSWA) makes every effort to assure all programs and events go off as planned. Should an event be cancelled due to severe weather or other unexpected reasons\, GSWA will promptly notify all registrants via email and the event page will reflect the status. To accommodate people on the waitlist\, participants needing to cancel should do so ASAP. Cancellations made less than 48 hours in advance will not be refunded unless it is due to a health emergency. Unused registration fees may be converted into a tax-deductible donation.
URL:https://www.greatswamp.org/event/breakfast-briefing-colonial-era-herbs-and-vegetables-at-the-wick-house-garden/
LOCATION:Great Swamp Watershed Association HQ\, 568 Tempe Wick Rd\, Morristown\, NJ\, 07960\, United States
CATEGORIES:Speaker Programs
ATTACH;FMTTYPE=image/jpeg:https://www.greatswamp.org/wp-content/uploads/2025/02/Colonial-Era-Herbs-and-Vegetables-at-the-Wick-House-Garden-e1740171203174.jpg
ORGANIZER;CN="Nancy Rago":MAILTO:nrago@greatswamp.org
END:VEVENT
BEGIN:VEVENT
DTSTART;TZID=America/New_York:20250315T100000
DTEND;TZID=America/New_York:20250315T130000
DTSTAMP:20260420T131848
CREATED:20250121T194620Z
LAST-MODIFIED:20250301T012020Z
UID:53980-1742032800-1742043600@www.greatswamp.org
SUMMARY:SOLD OUT: Paterson Falls Explorer Hike and Tour
DESCRIPTION:This event is sold out. If you would like to be added to the waitlist\, or if you need to cancel\, please email ifilippini@greatswamp.org  \n  \nExplore Paterson from the other end of the Passaic. Join us for an afternoon of nature and natural history. Staff from the Paterson Great Falls National Historical Park will guide us on an informative hike through the area where we will check out the new viewing platform to explore the 77-foot high waterfall. From there we’ll hike along the old raceway\, and we’ll even squeeze in a museum visit. It’s a great opportunity to gain insight into the importance of Paterson\, the first planned industrial city that was centered around the Great Falls\, and how it changed the face of our country. We will meet at the Great Falls and go from there. \nDress for the weather\, hiking boots recommended for potentially muddy conditions. \nWhile this program is free for all participants\, a suggested donation of $10 per adult and $5 per child is appreciated! \n\nPlease email Izzy ifilippini@greatswamp.org with questions or cancellations. \nCANCELLATION POLICY: Great Swamp Watershed Association (GSWA) makes every effort to assure all programs and events go off as planned. Should an event be cancelled due to severe weather or other unexpected reasons\, GSWA will promptly notify all registrants via email and the event page will reflect the status. To accommodate people on the waitlist\, participants needing to cancel should do so ASAP. Cancellations made less than 48 hours in advance will not be refunded unless it is due to a health emergency. Unused registration fees may be converted into a tax-deductible donation.
URL:https://www.greatswamp.org/event/paterson-falls-hike-25/
LOCATION:Paterson Great Falls National Park\, 72 McBride Ave\,\, Paterson\, NJ\, United States
CATEGORIES:Outdoor Events
ATTACH;FMTTYPE=image/png:https://www.greatswamp.org/wp-content/uploads/2025/01/03-15-25-Paterson-Falls-Explorer-Hike-and-Tour-Website-Graphic-1.png
ORGANIZER;CN="Hazel England":MAILTO:hazele@greatswamp.org
END:VEVENT
BEGIN:VEVENT
DTSTART;TZID=America/New_York:20250319T190000
DTEND;TZID=America/New_York:20250319T200000
DTSTAMP:20260420T131848
CREATED:20250115T211109Z
LAST-MODIFIED:20250224T203958Z
UID:53901-1742410800-1742414400@www.greatswamp.org
SUMMARY:Plant for Pollinators Webinar #3: The Secret Lives of Wild Bees
DESCRIPTION:The Secret Lives of Wild Bees with Nick Dorian \nYou’ve probably heard “Save The Bees\,” but do you know which bees need saving? Join us for an in-depth look at the many native\, non-colony forming bees which native plants can help attract! Over 4000 species of bees inhabit North America\, and most don’t live in hives or make honey. In fact\, wild bees come in every size\, shape\, and color you can imagine\, and they live all around us\, hiding in plain sight. Dr. Dorian will introduce you to the wild bees of New England. We’ll examine their varied lifestyles\, habitat needs\, and the intricate relationships they have with native flowering plants and other insects. Come away with clear action items for how to appreciate\, and help these important pollinators in your yards. \nPlease consider a $10 donation for each webinar you attend. Your gift helps us continue improving the quality\, diversity\, and draw of the speakers we provide and covers the increased program costs of securing our them and their information-packed presentations. \n\nThis is the third of four monthly webinars for our highly anticipated annual Plant for Pollinators program. \nRegister for all four of the four-part webinar series here! This streamlined registration not only guarantees timely reminder emails with the Zoom link for each of the four talks\, but also ensures that you receive recording links for all four webinars within 48 hours of each talk’s conclusion. \nFor those only interested in specific talks\, you can register individually for the 3 remaining webinars at the links below: \nWednesday\, January 29\, 7-8 PM – From Wasteland to Wonder: Biodiversity Shifts That Can Heal the Earth with Basil Camu \nThursday\, February 27\, 7-8 PM – Native Garden Transformations with Bianca Wright \nMonday\, March 31\, 7-8 PM – 5th Annual Plant for Pollinators Native Plant Sale Overview with GSWA’s Hazel England \nRegistration closes at 5 PM the day of each webinar. A Zoom link will be emailed to early registrants 24 hours prior to the start of the webinar and again by 5:30 PM day-of. If you don’t see it\, check your spam folder. The webinar is recorded and all registrants will receive the replay link within 48 hours of the end of the webinar.  \n\nMark your calendars for the 5th Annual Plant for Pollinators Native Plant Sale\, opening April 1 and closing April 18. Click here for details!
URL:https://www.greatswamp.org/event/pfp2025_bees/
LOCATION:Zoom Webinar\, NJ\, United States
CATEGORIES:Speaker Programs
ATTACH;FMTTYPE=image/jpeg:https://www.greatswamp.org/wp-content/uploads/2025/01/03-19-25-PFP-Webinar-3-Website-Graphic.jpg
ORGANIZER;CN="Hazel England":MAILTO:hazele@greatswamp.org
END:VEVENT
BEGIN:VEVENT
DTSTART;TZID=America/New_York:20250328T190000
DTEND;TZID=America/New_York:20250328T210000
DTSTAMP:20260420T131848
CREATED:20250122T164648Z
LAST-MODIFIED:20250327T165832Z
UID:54006-1743188400-1743195600@www.greatswamp.org
SUMMARY:SOLD OUT: Vernal Pool Exploration Hike
DESCRIPTION:This event is sold out. If you would like to be added to the waitlist\, or if you need to cancel\, please email ifilippini@greatswamp.org  \nWith temperatures rising\, the forest floor will be hopping with new life as frogs and other amphibians crowd into shallow puddles of water to breed and lay their eggs. These puddles\, called vernal pools\, provide a perfect opportunity to learn more about Mother Nature here in New Jersey. But we have to hurry – they disappear quickly! This annual Vernal Pool Exploration provides a fun\, outdoor learning experience for kids and adults alike. Discover the differences between a spring peeper\, a chorus frog\, and a wood frog. Find out how far an endangered spotted salamander will walk to find a mating pool. And\, learn how much everything we have come to appreciate about the springtime depends upon a few unassuming puddles of water on the forest floor. \nWarm clothing and waterproof footwear\, especially hiking boots\, are strongly recommended. \n\nPlease email Izzy ifilippini@greatswamp.org with questions or cancellations. \nCANCELLATION POLICY: Great Swamp Watershed Association (GSWA) makes every effort to assure all programs and events go off as planned. Should an event be cancelled due to severe weather or other unexpected reasons\, GSWA will promptly notify all registrants via email and the event page will reflect the status. To accommodate people on the waitlist\, participants needing to cancel should do so ASAP. Cancellations made less than 48 hours in advance will not be refunded unless it is due to a health emergency. Unused registration fees may be converted into a tax-deductible donation.
URL:https://www.greatswamp.org/event/vernal-pool-exploration-hike-3/
LOCATION:Great Swamp Watershed Association’s CMA\, 1 Tiger Lily Ln\, Morristown\, NJ\, 07960\, United States
CATEGORIES:Outdoor Events
ATTACH;FMTTYPE=image/png:https://www.greatswamp.org/wp-content/uploads/2025/01/Vernal-Pool-Hike.png
ORGANIZER;CN="Hazel England":MAILTO:hazele@greatswamp.org
END:VEVENT
BEGIN:VEVENT
DTSTART;TZID=America/New_York:20250331T190000
DTEND;TZID=America/New_York:20250331T200000
DTSTAMP:20260420T131848
CREATED:20250115T212152Z
LAST-MODIFIED:20250224T204319Z
UID:53912-1743447600-1743451200@www.greatswamp.org
SUMMARY:Plant for Pollinators Webinar #4: Overview and Plant Sale Kick Off
DESCRIPTION:5th Annual Plant for Pollinators Native Plant Sale Overview with GSWA’s Hazel England \nAs we gear up for our 5th annual “Plant for Pollinators” sale opening at noon on April 1\, join GSWA’s Hazel England for an in-depth look at the 37 native perennials that will be offered. Come learn why we should choose natives\, the “how-to’s” of going native\, and the wildlife value of the species being offered this year. Hazel will delve into the variety of pollinators these specific plants expect to attract\, and provide in-depth information on how our plant kits work together to offer color and nectar throughout the growing season. Learn how to start\, add\, or amend your growing native pollinator garden. Leave with your shopping list of “must have” plants in preparation the sale opening. \nPlease consider a $10 donation for each webinar you attend. Your gift helps us continue improving the quality\, diversity\, and draw of the speakers we provide and covers the increased program costs of securing our them and their information-packed presentations. \n\nThis is the final of four monthly webinars for our highly anticipated annual Plant for Pollinators program. \nRegister for all four of the four-part webinar series here! This streamlined registration not only guarantees timely reminder emails with the Zoom link for each of the four talks\, but also ensures that you receive recording links for all four webinars within 48 hours of each talk’s conclusion. \nFor those only interested in specific talks\, you can register individually for the 3 remaining webinars at the links below: \nWednesday\, January 29\, 7-8 PM – From Wasteland to Wonder: Biodiversity Shifts That Can Heal the Earth with Basil Camu \nThursday\, February 27\, 7-8 PM – Native Garden Transformations with Bianca Wright \nWednesday\, March 19\, 7-8PM – The Secret Lives of Wild Bees with Nick Dorian \nRegistration closes at 5 PM the day of each webinar. A Zoom link will be emailed to early registrants 24 hours prior to the start of the webinar and again by 5:30 PM day-of. If you don’t see it\, check your spam folder. The webinar is recorded and all registrants will receive the replay link within 48 hours of the end of the webinar.  \n\nMark your calendars for the 5th Annual Plant for Pollinators Native Plant Sale\, opening April 1 and closing April 18. Click here for details!
URL:https://www.greatswamp.org/event/pfp2025_plantsale/
LOCATION:Zoom Webinar\, NJ\, United States
CATEGORIES:Speaker Programs
ATTACH;FMTTYPE=image/jpeg:https://www.greatswamp.org/wp-content/uploads/2025/01/03-31-25-PFP-Webinar-4-Website-Graphic-1.jpg
ORGANIZER;CN="Hazel England":MAILTO:hazele@greatswamp.org
END:VEVENT
BEGIN:VEVENT
DTSTART;TZID=America/New_York:20250331T190000
DTEND;TZID=America/New_York:20250331T200000
DTSTAMP:20260420T131848
CREATED:20250115T213258Z
LAST-MODIFIED:20250320T213227Z
UID:53918-1743447600-1743451200@www.greatswamp.org
SUMMARY:Plant for Pollinators Webinar Full Series
DESCRIPTION:PLEASE NOTE THE FOLLOWING:  \nEach Zoom link will be emailed to registrants 24 hours prior to the start of the webinar and again by 5:30 PM day-of. If you don’t see it\, check your spam folder. \nRegistration closes 5-7 PM the day of each webinar. Those registering after the closeout period will be unable to participate live\, but will receive the replay link within 48 hours.   \nThis is the place to register all four monthly webinars for our highly anticipated annual Plant for Pollinators program. This streamlined registration not only guarantees timely reminder emails with the Zoom link for each of the four talks\, but also ensures that you receive recording links for all four webinars within 48 hours of each talk’s conclusion. \nFor those only interested in specific talks\, you can register individually at the links below: \nMonday\, March 31\, 7-8 PM – 5th Annual Plant for Pollinators Native Plant Sale Overview with GSWA’s Hazel England \nPrevious talk: \nWednesday\, January 29\, 7-8 PM – From Wasteland to Wonder: Biodiversity Shifts That Can Heal the Earth with Basil Camu \nThursday\, February 27\, 7-8 PM – Native Garden Transformations with Bianca Wright \nWednesday\, March 19\, 7-8PM – The Secret Lives of Wild Bees with Nick Dorian \nPlease consider a $10 donation for each webinar you attend. Your gift helps us continue improving the quality\, diversity\, and draw of the speakers we provide and covers the increased program costs of securing our them and their information-packed presentations. \nPlease email ifilippini@greatswamp.org with any questions! \n\nMark your calendars for the 5th Annual Plant for Pollinators Native Plant Sale\, opening April 1 and closing April 18. Click here for details!
URL:https://www.greatswamp.org/event/pfp2025_series/
LOCATION:Zoom Webinar\, NJ\, United States
CATEGORIES:Speaker Programs
ATTACH;FMTTYPE=image/jpeg:https://www.greatswamp.org/wp-content/uploads/2025/01/2025-PFP-Webinar-Series-Website-Graphic.jpg
ORGANIZER;CN="Hazel England":MAILTO:hazele@greatswamp.org
END:VEVENT
END:VCALENDAR