BEGIN:VCALENDAR
VERSION:2.0
PRODID:-//GSWA - ECPv6.15.18//NONSGML v1.0//EN
CALSCALE:GREGORIAN
METHOD:PUBLISH
X-WR-CALNAME:GSWA
X-ORIGINAL-URL:https://www.greatswamp.org
X-WR-CALDESC:Events for GSWA
REFRESH-INTERVAL;VALUE=DURATION:PT1H
X-Robots-Tag:noindex
X-PUBLISHED-TTL:PT1H
BEGIN:VTIMEZONE
TZID:America/New_York
BEGIN:DAYLIGHT
TZOFFSETFROM:-0500
TZOFFSETTO:-0400
TZNAME:EDT
DTSTART:20240310T070000
END:DAYLIGHT
BEGIN:STANDARD
TZOFFSETFROM:-0400
TZOFFSETTO:-0500
TZNAME:EST
DTSTART:20241103T060000
END:STANDARD
BEGIN:DAYLIGHT
TZOFFSETFROM:-0500
TZOFFSETTO:-0400
TZNAME:EDT
DTSTART:20250309T070000
END:DAYLIGHT
BEGIN:STANDARD
TZOFFSETFROM:-0400
TZOFFSETTO:-0500
TZNAME:EST
DTSTART:20251102T060000
END:STANDARD
BEGIN:DAYLIGHT
TZOFFSETFROM:-0500
TZOFFSETTO:-0400
TZNAME:EDT
DTSTART:20260308T070000
END:DAYLIGHT
BEGIN:STANDARD
TZOFFSETFROM:-0400
TZOFFSETTO:-0500
TZNAME:EST
DTSTART:20261101T060000
END:STANDARD
END:VTIMEZONE
BEGIN:VEVENT
DTSTART;TZID=America/New_York:20250603T080000
DTEND;TZID=America/New_York:20250603T093000
DTSTAMP:20260420T222101
CREATED:20250328T185950Z
LAST-MODIFIED:20250418T164142Z
UID:55609-1748937600-1748943000@www.greatswamp.org
SUMMARY:Breakfast Briefing: Microplastics 5 Years Later
DESCRIPTION:It’s been 7 years since GSWA conducted our first microplastics sampling study and 5 years since New Jersey passed the “Get Past Plastics” legislation aimed at reducing our reliance on single-use plastics. Are you curious if it’s made an impact? We certainly were\, so we gathered our team and re-sampled the same 10 sites from our 2018 study. \nJoin Sandra LaVigne\, GSWA’s Director of Water Quality Programs\, as she reveals the findings of our 2025 microplastics sampling study\, shedding light on what effects\, if any\, these plastic reduction laws have made in our local water. Sandra will also offer practical solutions for all of us to consider adopting to help keep our waterways clean. \nEnjoy a light breakfast prior to the start of the presentation.\nGet tickets below: GSWA Members: Free | Non-members: $10 (Adult)\, $5 (Child). \nAbout the Presenter: Sandra LaVigne joined the staff in March of 2016. Prior to joining GSWA she worked as a water quality specialist and restoration ecologist managing water quality programs and restoration projects. Sandra is a native of northern New Jersey and attended Cook College\, Rutgers University. Sandra oversees our water quality monitoring efforts and organizes our citizen science volunteers who assist in collecting a wide scope of data throughout the watershed. In 2019\, Sandra established and implemented GSWA’s first-ever microplastics sampling protocol and integrated it into her water quality monitoring program. \n\n\nPlease email Izzy (ifilippini@greatswamp.org) with questions or cancellations. Ticketing closes at 4/15 at 5:00 PM. \nCANCELLATION POLICY: Great Swamp Watershed Association (GSWA) makes every effort to assure all programs and events go off as planned. Should an event be cancelled due to severe weather or other unexpected reasons\, GSWA will promptly notify all registrants via email and the event page will reflect the status. To accommodate people on the waitlist\, participants needing to cancel should do so ASAP. Cancellations made less than 48 hours in advance will not be refunded unless it is due to a health emergency. Unused registration fees may be converted into a tax-deductible donation.
URL:https://www.greatswamp.org/event/breakfast-briefing-june-2025/
LOCATION:Great Swamp Watershed Association HQ\, 568 Tempe Wick Rd\, Morristown\, NJ\, 07960\, United States
CATEGORIES:Speaker Programs
ATTACH;FMTTYPE=image/jpeg:https://www.greatswamp.org/wp-content/uploads/2025/03/Microplastics-5-Years-Later-Website-Graphic.jpg
ORGANIZER;CN="Nancy Rago":MAILTO:nrago@greatswamp.org
END:VEVENT
BEGIN:VEVENT
DTSTART;TZID=America/New_York:20250622T180000
DTEND;TZID=America/New_York:20250622T220000
DTSTAMP:20260420T222101
CREATED:20250318T210547Z
LAST-MODIFIED:20250622T165147Z
UID:55278-1750615200-1750629600@www.greatswamp.org
SUMMARY:Great Swamp Great Music After Dark
DESCRIPTION:Online ticket purchase is now closed – tickets are available at the door at the same price!\nExtend the weekend vibes! \nExperience the reimagined Great Swamp Great Music after dark! Now in its 8th successful year\, we’re bringing the party indoors to the trendy Homestead Bar and Kitchen in Morristown. Skip the Sunday meal prep and join us for an unforgettable night of live music from some of our fan favorites\, delicious dinner\, and fantastic drink specials\, all included with your ticket. We’ll be serving up a sizzling blend of country\, classic rock anthems you can sing along to\, and exciting original tunes that will have you hooked. Snag your tickets now and let’s make some noise for clean water! Scroll down to secure your spot! \n\nWhat’s in store for the evening?\n\nYour ticket offers exceptional value: a delicious dinner buffet\, drink specials\, and of course\, a cool variety of live music!\nNestled in the heart of Morristown\, Homestead boasts a spacious\, open-air design where a retractable wall seamlessly blends the indoor comfort with the evening breeze off an outdoor patio. Check out the venue HERE.\nTry your luck in our 50/50 Raffle and you could walk away with half the cash!\nAmple parking is available in the garage located directly across from the venue as well as nearby on-street parking.\n\nLineup\n\nThe Big Fuss \nThe Big Fuss brings their own unique style to rock covers from the 1960’s through today. Their blend of on-stage charisma\, musical talent\, and refreshing delivery of songs you know and love will keep you smiling and dancing through the night! Hunterdon Happening “Best Band/Musician” award winners… come see what The Big Fuss is all about! \nThe Refugee Dogs \nThe Refugee Dogs is a band dedicated to creating and honing brand new\, exciting music ranging from insightful to vaguely off color. The band released their debut CD in May of 2020 which is available on all streaming platforms! \nThe Dust-Ups \nThe Dust-Ups are an original alt-country band. They blend a down-home country sound with a punk rock spirit to create lively\, catchy and fun songs. They released their debut\, self-titled album last March. \n  \nBuffet Dinner Available 6:30-8 PM\n \nCheeseburger Sliders\, Chicken Fingers\, Pretzel Bites\, Penne Vodka Pasta\, Fries\, Caesar Salad\, Crudité Board \n*Attendees may also order off the regular menu at your own cost \n  \nDrink Specials Available 6-10 PM** \n\nWhite Claw\, Miller\, Coors\, Yuengling – $4\nCorona – $5\nSurfside – $6\nHouse Margaritas\, Pinot Noir\, Pinot Grigio – $8\n\n**Traditional beverages are also available at regular cost \n  \nThank You to our Generous Sponsors\nBarred Owl\nAtlantic Health System\nOpella\nS. Dillard and Adrienne T. Kirby Family Philanthropic Fund \nBlue Spotted Salamander\nAdrienne & Reed Auerbach\nChatham Print & Design\nCommunity Foundation of New Jersey\nAgi & Matt Krauser\nNew Jersey American Water\nPipe Works Services\, Inc.\nThe Schlosser Family\nLisa & David Welsh \nEmerald Darner\nBCB Bank\nDelta Dental of New Jersey\nPSEG \nSponsorship Opportunities\nYour sponsorship of this event is a powerful statement about your commitment to clean water and a healthy environment. Directly contributing to the success of our second largest annual fundraiser\, your support enables GSWA to continue our ongoing conservation efforts. Sponsorships offer significant promotional benefits in return\, including placement in press releases\, targeted social media campaigns\, dedicated website recognition\, and high-visibility opportunities at this local event. \nClick HERE for to learn more about the benefits of becoming a sponsor.\n  \nWe look forward to seeing you at this fun\, live music fundraiser where\nyour participation makes a positive impact on  our local environment! \n(scroll down for tickets) \n 
URL:https://www.greatswamp.org/event/great-swamp-music-fest-2025/
LOCATION:The Homestead Bar and Kitchen\, 10 Dehart St.\, Morristown\, NJ\, 07960\, United States
CATEGORIES:Fundraiser
ATTACH;FMTTYPE=image/jpeg:https://www.greatswamp.org/wp-content/uploads/2025/03/Music-Fest-Website-Graphics-2025_Website4.jpg
ORGANIZER;CN="Val Thorpe":MAILTO:vthorpe@greatswamp.org
END:VEVENT
BEGIN:VEVENT
DTSTART;TZID=America/New_York:20250628T100000
DTEND;TZID=America/New_York:20250628T120000
DTSTAMP:20260420T222101
CREATED:20250616T190656Z
LAST-MODIFIED:20250625T193857Z
UID:56790-1751104800-1751112000@www.greatswamp.org
SUMMARY:CANCELLED: Dismal Harmony Hike
DESCRIPTION:Due to expected thunderstorms\, this event has been cancelled! Please check back at GreatSwamp.org/events for future hikes.  \nJoin GSWA’s Ginger Van Ryzin for a moderate\, 2 mile hike at Dismal Harmony Natural Area in Mendham\, NJ. Along the way we will explore the legends behind legend rock and the history behind the stone house nestled within the preserve. \nExact meetup and parking location is TBD; we will email all attendees that information prior to the hike. \nWaterproof footwear\, especially hiking boots\, are strongly recommended. \n\nPlease email Izzy ifilippini@greatswamp.org with questions or cancellations. \nCANCELLATION POLICY: Great Swamp Watershed Association (GSWA) makes every effort to assure all programs and events go off as planned. Should an event be cancelled due to severe weather or other unexpected reasons\, GSWA will promptly notify all registrants via email and the event page will reflect the status. To accommodate people on the waitlist\, participants needing to cancel should do so ASAP. Cancellations made less than 48 hours in advance will not be refunded unless it is due to a health emergency. Unused registration fees may be converted into a tax-deductible donation.
URL:https://www.greatswamp.org/event/dismal-harmony-hike/
LOCATION:Dismal Harmony Natural Area\, Mendham\, NJ\, United States
CATEGORIES:Outdoor Events
ATTACH;FMTTYPE=image/jpeg:https://www.greatswamp.org/wp-content/uploads/2025/06/Dismal-Harmony-Hike.jpg
ORGANIZER;CN="Ginger Van Ryzin":MAILTO:gvanryzin@greatswamp.org
END:VEVENT
BEGIN:VEVENT
DTSTART;TZID=America/New_York:20250630T173000
DTEND;TZID=America/New_York:20250630T193000
DTSTAMP:20260420T222101
CREATED:20250617T173518Z
LAST-MODIFIED:20250626T154531Z
UID:56798-1751304600-1751311800@www.greatswamp.org
SUMMARY:Sold out: Paddle the Passaic
DESCRIPTION:This event is sold out. If you would like to be added to the waitlist\, please email ifilippini@greatswamp.org. \n  \nCome out and enjoy the sights along the beautiful banks of the Passaic River as we paddle from the Livingston Canoe Launch. This area is full of wildlife\, native vegetation\, and beautiful views. \nChildren 8 and up are welcome. All participants 15 and under must be accompanied by a parent. There are only 7 spots available – 2 spots/registration max. All participants must be able to swim\, be comfortable on the water\, and wear clothes and footwear that can (and will) get wet and muddy. Life vests will be provided. \nIMPORTANT – Kayak Waiver: Each participant MUST submit one of the forms below. If the person is under the age of 18\, a parent or guardian must sign their form and assume responsibility for the minor. Please complete\, sign and bring the form(s) with you. The organizers will collect completed forms before put-in. \nAdult Attendee \nMinor Attendee \nThe GSWA kayaks\, used in our water quality and educational programming\, were purchased with the generous funding provided by the Thomas Glasser Foundation. \nThe put-in location is the Livingston Canoe Launch\, and we will paddle from there. \n\nPlease email Izzy ifilippini@greatswamp.org with questions or cancellations. \nCANCELLATION POLICY: Great Swamp Watershed Association (GSWA) makes every effort to assure all programs and events go off as planned. Should an event be cancelled due to severe weather or other unexpected reasons\, GSWA will promptly notify all registrants via email and the event page will reflect the status. To accommodate people on the waitlist\, participants needing to cancel should do so ASAP. Cancellations made less than 48 hours in advance will not be refunded unless it is due to a health emergency. Unused registration fees may be converted into a tax-deductible donation.
URL:https://www.greatswamp.org/event/paddlethepassaic2025/
LOCATION:Canoe Launch\, Livingston\, 2\, 12 S Orange Ave\, Livingston\, New Jersey\, 07039
CATEGORIES:Outdoor Events
ATTACH;FMTTYPE=image/jpeg:https://www.greatswamp.org/wp-content/uploads/2025/06/6-30-25-Paddle-the-Passaic.jpg
ORGANIZER;CN="Alex Sloane":MAILTO:ASloane@greatswamp.org
END:VEVENT
END:VCALENDAR